BEGIN:VCALENDAR
VERSION:2.0
PRODID:-//NJ Key Club - ECPv6.7.0//NONSGML v1.0//EN
CALSCALE:GREGORIAN
METHOD:PUBLISH
X-WR-CALNAME:NJ Key Club
X-ORIGINAL-URL:https://www.njkeyclub.org
X-WR-CALDESC:Events for NJ Key Club
REFRESH-INTERVAL;VALUE=DURATION:PT1H
X-Robots-Tag:noindex
X-PUBLISHED-TTL:PT1H
BEGIN:VTIMEZONE
TZID:America/New_York
BEGIN:DAYLIGHT
TZOFFSETFROM:-0500
TZOFFSETTO:-0400
TZNAME:EDT
DTSTART:20250309T070000
END:DAYLIGHT
BEGIN:STANDARD
TZOFFSETFROM:-0400
TZOFFSETTO:-0500
TZNAME:EST
DTSTART:20251102T060000
END:STANDARD
END:VTIMEZONE
BEGIN:VEVENT
DTSTART;VALUE=DATE:20250501
DTEND;VALUE=DATE:20250502
DTSTAMP:20260422T104107
CREATED:20250318T193118Z
LAST-MODIFIED:20250318T193627Z
UID:1740-1746057600-1746143999@www.njkeyclub.org
SUMMARY:ICON Final Chance To Attend
DESCRIPTION:This is the last chance to sign up for ICON 2025!
URL:https://www.njkeyclub.org/event/icon-final-chance-to-attend/
END:VEVENT
END:VCALENDAR